BEGIN:VCALENDAR
VERSION:2.0
PRODID:-//Laverstock and Ford Parish Council//Meeting Calendar//EN
CALSCALE:GREGORIAN
METHOD:PUBLISH
BEGIN:VEVENT
UID:69469-20190520@laverstockford-pc.gov.uk
DTSTAMP:20260419T145612Z
DTSTART;VALUE=DATE:20190520
DTEND;VALUE=DATE:20190521
SUMMARY:Full Council Meeting May 2019
DESCRIPTION:Full Council Meeting\nView details: https://laverstockford-pc.gov.uk/meetings/full-council-meeting-may-2019/
URL:https://laverstockford-pc.gov.uk/meetings/full-council-meeting-may-2019/
END:VEVENT
END:VCALENDAR
