BEGIN:VCALENDAR
VERSION:2.0
PRODID:-//Laverstock and Ford Parish Council//Meeting Calendar//EN
CALSCALE:GREGORIAN
METHOD:PUBLISH
BEGIN:VEVENT
UID:69472-20190617@laverstockford-pc.gov.uk
DTSTAMP:20260421T094740Z
DTSTART;VALUE=DATE:20190617
DTEND;VALUE=DATE:20190618
SUMMARY:Full Council Meeting June 2019
DESCRIPTION:Full Council Meeting\nView details: https://laverstockford-pc.gov.uk/meetings/full-council-meeting-june-2019/
URL:https://laverstockford-pc.gov.uk/meetings/full-council-meeting-june-2019/
END:VEVENT
END:VCALENDAR
