BEGIN:VCALENDAR
VERSION:2.0
PRODID:-//Laverstock and Ford Parish Council//Meeting Calendar//EN
CALSCALE:GREGORIAN
METHOD:PUBLISH
BEGIN:VEVENT
UID:69490-20191216@laverstockford-pc.gov.uk
DTSTAMP:20260419T132356Z
DTSTART;VALUE=DATE:20191216
DTEND;VALUE=DATE:20191217
SUMMARY:Council Meeting December 2019
DESCRIPTION:Full Council Meeting\nView details: https://laverstockford-pc.gov.uk/meetings/full-council-meeting-december-2019/
URL:https://laverstockford-pc.gov.uk/meetings/full-council-meeting-december-2019/
END:VEVENT
END:VCALENDAR
