BEGIN:VCALENDAR
VERSION:2.0
PRODID:-//Laverstock and Ford Parish Council//Meeting Calendar//EN
CALSCALE:GREGORIAN
METHOD:PUBLISH
BEGIN:VEVENT
UID:69504-20200120@laverstockford-pc.gov.uk
DTSTAMP:20260422T104933Z
DTSTART;VALUE=DATE:20200120
DTEND;VALUE=DATE:20200121
SUMMARY:Full Council Meeting January 2020
DESCRIPTION:Full Council Meeting\nView details: https://laverstockford-pc.gov.uk/meetings/full-council-meeting-january-2020/
URL:https://laverstockford-pc.gov.uk/meetings/full-council-meeting-january-2020/
END:VEVENT
END:VCALENDAR
