BEGIN:VCALENDAR
VERSION:2.0
PRODID:-//Laverstock and Ford Parish Council//Meeting Calendar//EN
CALSCALE:GREGORIAN
METHOD:PUBLISH
BEGIN:VEVENT
UID:69524-20200817@laverstockford-pc.gov.uk
DTSTAMP:20260421T094453Z
DTSTART;VALUE=DATE:20200817
DTEND;VALUE=DATE:20200818
SUMMARY:Full Council Meeting August 2020
DESCRIPTION:Full Council Meeting\nView details: https://laverstockford-pc.gov.uk/meetings/full-council-meeting-august-2020/
URL:https://laverstockford-pc.gov.uk/meetings/full-council-meeting-august-2020/
END:VEVENT
END:VCALENDAR
