BEGIN:VCALENDAR
VERSION:2.0
PRODID:-//Laverstock and Ford Parish Council//Meeting Calendar//EN
CALSCALE:GREGORIAN
METHOD:PUBLISH
BEGIN:VEVENT
UID:69530-20201012@laverstockford-pc.gov.uk
DTSTAMP:20260419T132554Z
DTSTART;VALUE=DATE:20201012
DTEND;VALUE=DATE:20201013
SUMMARY:Extraordinary Council Meeting October 2020
DESCRIPTION:Full Council Meeting\nView details: https://laverstockford-pc.gov.uk/meetings/extraordinary-council-meeting-october-2020/
URL:https://laverstockford-pc.gov.uk/meetings/extraordinary-council-meeting-october-2020/
END:VEVENT
END:VCALENDAR
