BEGIN:VCALENDAR
VERSION:2.0
PRODID:-//Laverstock and Ford Parish Council//Meeting Calendar//EN
CALSCALE:GREGORIAN
METHOD:PUBLISH
BEGIN:VEVENT
UID:69536-20201116@laverstockford-pc.gov.uk
DTSTAMP:20260421T094239Z
DTSTART;VALUE=DATE:20201116
DTEND;VALUE=DATE:20201117
SUMMARY:Full Council Meeting November 2020
DESCRIPTION:Full Council Meeting\nView details: https://laverstockford-pc.gov.uk/meetings/full-council-meeting-november-2020/
URL:https://laverstockford-pc.gov.uk/meetings/full-council-meeting-november-2020/
END:VEVENT
END:VCALENDAR
