BEGIN:VCALENDAR
VERSION:2.0
PRODID:-//Laverstock and Ford Parish Council//Meeting Calendar//EN
CALSCALE:GREGORIAN
METHOD:PUBLISH
BEGIN:VEVENT
UID:69539-20201214@laverstockford-pc.gov.uk
DTSTAMP:20260419T121623Z
DTSTART;VALUE=DATE:20201214
DTEND;VALUE=DATE:20201215
SUMMARY:Full Council Meeting December 2020
DESCRIPTION:Full Council Meeting\nView details: https://laverstockford-pc.gov.uk/meetings/full-council-meeting-december-2020/
URL:https://laverstockford-pc.gov.uk/meetings/full-council-meeting-december-2020/
END:VEVENT
END:VCALENDAR
