BEGIN:VCALENDAR
VERSION:2.0
PRODID:-//Laverstock and Ford Parish Council//Meeting Calendar//EN
CALSCALE:GREGORIAN
METHOD:PUBLISH
BEGIN:VEVENT
UID:69548-20210215@laverstockford-pc.gov.uk
DTSTAMP:20260421T094747Z
DTSTART;VALUE=DATE:20210215
DTEND;VALUE=DATE:20210216
SUMMARY:Full Council Meeting February 2021
DESCRIPTION:Full Council Meeting\nView details: https://laverstockford-pc.gov.uk/meetings/full-council-meeting-february-2021/
URL:https://laverstockford-pc.gov.uk/meetings/full-council-meeting-february-2021/
END:VEVENT
END:VCALENDAR
