BEGIN:VCALENDAR
VERSION:2.0
PRODID:-//Laverstock and Ford Parish Council//Meeting Calendar//EN
CALSCALE:GREGORIAN
METHOD:PUBLISH
BEGIN:VEVENT
UID:69563-20210517@laverstockford-pc.gov.uk
DTSTAMP:20260422T104749Z
DTSTART;VALUE=DATE:20210517
DTEND;VALUE=DATE:20210518
SUMMARY:Full Council Meeting May 2021
DESCRIPTION:Full Council Meeting\nView details: https://laverstockford-pc.gov.uk/meetings/full-council-meeting-may-2021/
URL:https://laverstockford-pc.gov.uk/meetings/full-council-meeting-may-2021/
END:VEVENT
END:VCALENDAR
