BEGIN:VCALENDAR
VERSION:2.0
PRODID:-//Laverstock and Ford Parish Council//Meeting Calendar//EN
CALSCALE:GREGORIAN
METHOD:PUBLISH
BEGIN:VEVENT
UID:69593-20210914@laverstockford-pc.gov.uk
DTSTAMP:20260423T011056Z
DTSTART;VALUE=DATE:20210914
DTEND;VALUE=DATE:20210915
SUMMARY:Communications &#038\\; Community Engagement Committee Meeting September 2021
DESCRIPTION:Communications &amp; Community Engagement Working Group Meeting\nView details: https://laverstockford-pc.gov.uk/meetings/communications-community-engagement-committee-meeting-september-2021/
URL:https://laverstockford-pc.gov.uk/meetings/communications-community-engagement-committee-meeting-september-2021/
END:VEVENT
END:VCALENDAR
