BEGIN:VCALENDAR
VERSION:2.0
PRODID:-//Laverstock and Ford Parish Council//Meeting Calendar//EN
CALSCALE:GREGORIAN
METHOD:PUBLISH
BEGIN:VEVENT
UID:69611-20211102@laverstockford-pc.gov.uk
DTSTAMP:20260422T231616Z
DTSTART;VALUE=DATE:20211102
DTEND;VALUE=DATE:20211103
SUMMARY:Communications &#038\\; Community Engagement Committee Meeting November 2021
DESCRIPTION:Communications &amp; Community Engagement Working Group Meeting\nView details: https://laverstockford-pc.gov.uk/meetings/communications-community-engagement-committee-meeting-november-2021/
URL:https://laverstockford-pc.gov.uk/meetings/communications-community-engagement-committee-meeting-november-2021/
END:VEVENT
END:VCALENDAR
