BEGIN:VCALENDAR
VERSION:2.0
PRODID:-//Laverstock and Ford Parish Council//Meeting Calendar//EN
CALSCALE:GREGORIAN
METHOD:PUBLISH
BEGIN:VEVENT
UID:69637-20220201@laverstockford-pc.gov.uk
DTSTAMP:20260422T213400Z
DTSTART;VALUE=DATE:20220201
DTEND;VALUE=DATE:20220202
SUMMARY:Communications &#038\\; Community Engagement Committee Meeting February 2022
DESCRIPTION:Communications &amp; Community Engagement Working Group Meeting\nView details: https://laverstockford-pc.gov.uk/meetings/communications-community-engagement-committee-meeting-february-2022/
URL:https://laverstockford-pc.gov.uk/meetings/communications-community-engagement-committee-meeting-february-2022/
END:VEVENT
END:VCALENDAR
