BEGIN:VCALENDAR
VERSION:2.0
PRODID:-//Laverstock and Ford Parish Council//Meeting Calendar//EN
CALSCALE:GREGORIAN
METHOD:PUBLISH
BEGIN:VEVENT
UID:69642-20220221@laverstockford-pc.gov.uk
DTSTAMP:20260422T105129Z
DTSTART;VALUE=DATE:20220221
DTEND;VALUE=DATE:20220222
SUMMARY:Full Council Meeting February 2022
DESCRIPTION:Full Council Meeting\nView details: https://laverstockford-pc.gov.uk/meetings/full-council-meeting-february-2022/
URL:https://laverstockford-pc.gov.uk/meetings/full-council-meeting-february-2022/
END:VEVENT
END:VCALENDAR
