BEGIN:VCALENDAR
VERSION:2.0
PRODID:-//Laverstock and Ford Parish Council//Meeting Calendar//EN
CALSCALE:GREGORIAN
METHOD:PUBLISH
BEGIN:VEVENT
UID:69645-20220222@laverstockford-pc.gov.uk
DTSTAMP:20260421T080948Z
DTSTART;VALUE=DATE:20220222
DTEND;VALUE=DATE:20220223
SUMMARY:Personnel Committee Meeting February 2022
DESCRIPTION:Personnel Committee Meeting\nView details: https://laverstockford-pc.gov.uk/meetings/personnel-committee-meeting-february-2022/
URL:https://laverstockford-pc.gov.uk/meetings/personnel-committee-meeting-february-2022/
END:VEVENT
END:VCALENDAR
