BEGIN:VCALENDAR
VERSION:2.0
PRODID:-//Laverstock and Ford Parish Council//Meeting Calendar//EN
CALSCALE:GREGORIAN
METHOD:PUBLISH
BEGIN:VEVENT
UID:69669-20221205@laverstockford-pc.gov.uk
DTSTAMP:20260421T094803Z
DTSTART;VALUE=DATE:20221205
DTEND;VALUE=DATE:20221206
SUMMARY:Finance &#038\\; General Purposes Committee Meeting December 2022
DESCRIPTION:Finance &amp; General Purposes Committee Meeting\nView details: https://laverstockford-pc.gov.uk/meetings/finance-general-purposes-committee-meeting-december-2022/
URL:https://laverstockford-pc.gov.uk/meetings/finance-general-purposes-committee-meeting-december-2022/
END:VEVENT
END:VCALENDAR
