BEGIN:VCALENDAR
VERSION:2.0
PRODID:-//Laverstock and Ford Parish Council//Meeting Calendar//EN
CALSCALE:GREGORIAN
METHOD:PUBLISH
BEGIN:VEVENT
UID:69703-20221124@laverstockford-pc.gov.uk
DTSTAMP:20260419T150002Z
DTSTART;VALUE=DATE:20221124
DTEND;VALUE=DATE:20221125
SUMMARY:Operations Committee Meeting November 2022
DESCRIPTION:Operations Working Group Meeting\nView details: https://laverstockford-pc.gov.uk/meetings/operations-committee-meeting-november-2022/
URL:https://laverstockford-pc.gov.uk/meetings/operations-committee-meeting-november-2022/
END:VEVENT
END:VCALENDAR
