BEGIN:VCALENDAR
VERSION:2.0
PRODID:-//Laverstock and Ford Parish Council//Meeting Calendar//EN
CALSCALE:GREGORIAN
METHOD:PUBLISH
BEGIN:VEVENT
UID:69712-20220907@laverstockford-pc.gov.uk
DTSTAMP:20260422T162923Z
DTSTART;VALUE=DATE:20220907
DTEND;VALUE=DATE:20220908
SUMMARY:Communications &#038\\; Community Engagement Committee Meeting September 2022
DESCRIPTION:Communications &amp; Community Engagement Working Group Meeting\nView details: https://laverstockford-pc.gov.uk/meetings/communications-community-engagement-committee-meeting-september-2022/
URL:https://laverstockford-pc.gov.uk/meetings/communications-community-engagement-committee-meeting-september-2022/
END:VEVENT
END:VCALENDAR
