BEGIN:VCALENDAR
VERSION:2.0
PRODID:-//Laverstock and Ford Parish Council//Meeting Calendar//EN
CALSCALE:GREGORIAN
METHOD:PUBLISH
BEGIN:VEVENT
UID:69715-20221103@laverstockford-pc.gov.uk
DTSTAMP:20260422T144032Z
DTSTART;VALUE=DATE:20221103
DTEND;VALUE=DATE:20221104
SUMMARY:Communications &#038\\; Community Engagement Committee Meeting November 2022
DESCRIPTION:Communications &amp; Community Engagement Working Group Meeting\nView details: https://laverstockford-pc.gov.uk/meetings/communications-community-engagement-committee-meeting-3rd-november-2022/
URL:https://laverstockford-pc.gov.uk/meetings/communications-community-engagement-committee-meeting-3rd-november-2022/
END:VEVENT
END:VCALENDAR
