BEGIN:VCALENDAR
VERSION:2.0
PRODID:-//Laverstock and Ford Parish Council//Meeting Calendar//EN
CALSCALE:GREGORIAN
METHOD:PUBLISH
BEGIN:VEVENT
UID:70330-20230123@laverstockford-pc.gov.uk
DTSTAMP:20260422T130527Z
DTSTART;VALUE=DATE:20230123
DTEND;VALUE=DATE:20230124
SUMMARY:Communications &#038\\; Community Engagement Committee Jan 2023
DESCRIPTION:Communications &amp; Community Engagement Working Group Meeting\nView details: https://laverstockford-pc.gov.uk/meetings/communications-community-engagement-committee-jan-23/
URL:https://laverstockford-pc.gov.uk/meetings/communications-community-engagement-committee-jan-23/
END:VEVENT
END:VCALENDAR
