BEGIN:VCALENDAR
VERSION:2.0
PRODID:-//Laverstock and Ford Parish Council//Meeting Calendar//EN
CALSCALE:GREGORIAN
METHOD:PUBLISH
BEGIN:VEVENT
UID:70502-20230424@laverstockford-pc.gov.uk
DTSTAMP:20260422T111549Z
DTSTART;VALUE=DATE:20230424
DTEND;VALUE=DATE:20230425
SUMMARY:Communications &#038\\; Community Engagement Committee April 2023
DESCRIPTION:Communications &amp; Community Engagement Working Group Meeting\nView details: https://laverstockford-pc.gov.uk/meetings/communications-community-engagement-committee-april-23/
URL:https://laverstockford-pc.gov.uk/meetings/communications-community-engagement-committee-april-23/
END:VEVENT
END:VCALENDAR
