BEGIN:VCALENDAR
VERSION:2.0
PRODID:-//Laverstock and Ford Parish Council//Meeting Calendar//EN
CALSCALE:GREGORIAN
METHOD:PUBLISH
BEGIN:VEVENT
UID:70761-20230626@laverstockford-pc.gov.uk
DTSTAMP:20260422T092434Z
DTSTART;VALUE=DATE:20230626
DTEND;VALUE=DATE:20230627
SUMMARY:Communications &#038\\; Community Engagement Committee June 2023
DESCRIPTION:Communications &amp; Community Engagement Working Group Meeting\nView details: https://laverstockford-pc.gov.uk/meetings/communications-community-engagement-june-2023/
URL:https://laverstockford-pc.gov.uk/meetings/communications-community-engagement-june-2023/
END:VEVENT
END:VCALENDAR
