BEGIN:VCALENDAR
VERSION:2.0
PRODID:-//Laverstock and Ford Parish Council//Meeting Calendar//EN
CALSCALE:GREGORIAN
METHOD:PUBLISH
BEGIN:VEVENT
UID:70871-20230925@laverstockford-pc.gov.uk
DTSTAMP:20260420T201859Z
DTSTART;VALUE=DATE:20230925
DTEND;VALUE=DATE:20230926
SUMMARY:Communications &#038\\; Community Engagement Committee Sept 2023
DESCRIPTION:Communications &amp; Community Engagement Working Group Meeting\nView details: https://laverstockford-pc.gov.uk/meetings/communications-community-engagement-committee-sept-2023/
URL:https://laverstockford-pc.gov.uk/meetings/communications-community-engagement-committee-sept-2023/
END:VEVENT
END:VCALENDAR
