BEGIN:VCALENDAR
VERSION:2.0
PRODID:-//Laverstock and Ford Parish Council//Meeting Calendar//EN
CALSCALE:GREGORIAN
METHOD:PUBLISH
BEGIN:VEVENT
UID:71333-20231127@laverstockford-pc.gov.uk
DTSTAMP:20260420T200914Z
DTSTART;VALUE=DATE:20231127
DTEND;VALUE=DATE:20231128
SUMMARY:Communications &#038\\; Community Engagement Committee November 23
DESCRIPTION:Communications &amp; Community Engagement Working Group Meeting\nView details: https://laverstockford-pc.gov.uk/meetings/communications-community-engagement-committee-november-23/
URL:https://laverstockford-pc.gov.uk/meetings/communications-community-engagement-committee-november-23/
END:VEVENT
END:VCALENDAR
