BEGIN:VCALENDAR
VERSION:2.0
PRODID:-//Laverstock and Ford Parish Council//Meeting Calendar//EN
CALSCALE:GREGORIAN
METHOD:PUBLISH
BEGIN:VEVENT
UID:71366-20231218@laverstockford-pc.gov.uk
DTSTAMP:20260421T081032Z
DTSTART;VALUE=DATE:20231218
DTEND;VALUE=DATE:20231219
SUMMARY:Full Council Meeting December 2023
DESCRIPTION:Full Council Meeting\nView details: https://laverstockford-pc.gov.uk/meetings/council-meeting-december/
URL:https://laverstockford-pc.gov.uk/meetings/council-meeting-december/
END:VEVENT
END:VCALENDAR
