BEGIN:VCALENDAR
VERSION:2.0
PRODID:-//Laverstock and Ford Parish Council//Meeting Calendar//EN
CALSCALE:GREGORIAN
METHOD:PUBLISH
BEGIN:VEVENT
UID:71586-20240409@laverstockford-pc.gov.uk
DTSTAMP:20260419T125155Z
DTSTART;VALUE=DATE:20240409
DTEND;VALUE=DATE:20240410
SUMMARY:Finance &#038\\; General Purposes Committee 9th April 2024
DESCRIPTION:Finance &amp; General Purposes Committee Meeting\nView details: https://laverstockford-pc.gov.uk/meetings/finance-general-purposes-committee-april-2024/
URL:https://laverstockford-pc.gov.uk/meetings/finance-general-purposes-committee-april-2024/
END:VEVENT
END:VCALENDAR
