BEGIN:VCALENDAR
VERSION:2.0
PRODID:-//Laverstock and Ford Parish Council//Meeting Calendar//EN
CALSCALE:GREGORIAN
METHOD:PUBLISH
BEGIN:VEVENT
UID:72061-20240820@laverstockford-pc.gov.uk
DTSTAMP:20260419T141946Z
DTSTART;VALUE=DATE:20240820
DTEND;VALUE=DATE:20240821
SUMMARY:Finance &#038\\; General Purposes Committee 20th Aug 2024
DESCRIPTION:Finance &amp; General Purposes Committee Meeting\nView details: https://laverstockford-pc.gov.uk/meetings/finance-general-purposes-committee-aug2024/
URL:https://laverstockford-pc.gov.uk/meetings/finance-general-purposes-committee-aug2024/
END:VEVENT
END:VCALENDAR
