BEGIN:VCALENDAR
VERSION:2.0
PRODID:-//Laverstock and Ford Parish Council//Meeting Calendar//EN
CALSCALE:GREGORIAN
METHOD:PUBLISH
BEGIN:VEVENT
UID:72455-20241112@laverstockford-pc.gov.uk
DTSTAMP:20260419T161343Z
DTSTART;VALUE=DATE:20241112
DTEND;VALUE=DATE:20241113
SUMMARY:Finance &#038\\; General Purposes Committee 12th November 2024
DESCRIPTION:Finance &amp; General Purposes Committee Meeting\nView details: https://laverstockford-pc.gov.uk/meetings/finance-general-purposes-november-2024/
URL:https://laverstockford-pc.gov.uk/meetings/finance-general-purposes-november-2024/
END:VEVENT
END:VCALENDAR
