BEGIN:VCALENDAR
VERSION:2.0
PRODID:-//Laverstock and Ford Parish Council//Meeting Calendar//EN
CALSCALE:GREGORIAN
METHOD:PUBLISH
BEGIN:VEVENT
UID:72670-20241018@laverstockford-pc.gov.uk
DTSTAMP:20260421T160919Z
DTSTART;VALUE=DATE:20241018
DTEND;VALUE=DATE:20241019
SUMMARY:Personnel Meeting 18th October 2024
DESCRIPTION:Personnel Committee Meeting\nView details: https://laverstockford-pc.gov.uk/meetings/personnel-committee-2/
URL:https://laverstockford-pc.gov.uk/meetings/personnel-committee-2/
END:VEVENT
END:VCALENDAR
