BEGIN:VCALENDAR
VERSION:2.0
PRODID:-//Laverstock and Ford Parish Council//Meeting Calendar//EN
CALSCALE:GREGORIAN
METHOD:PUBLISH
BEGIN:VEVENT
UID:72708-20241203@laverstockford-pc.gov.uk
DTSTAMP:20260419T175539Z
DTSTART;VALUE=DATE:20241203
DTEND;VALUE=DATE:20241204
SUMMARY:Finance &#038\\; General Purposes Committee 3rd December 2024
DESCRIPTION:Finance &amp; General Purposes Committee Meeting\nView details: https://laverstockford-pc.gov.uk/meetings/finance-general-purposes-committee-december-2024/
URL:https://laverstockford-pc.gov.uk/meetings/finance-general-purposes-committee-december-2024/
END:VEVENT
END:VCALENDAR
