BEGIN:VCALENDAR
VERSION:2.0
PRODID:-//Laverstock and Ford Parish Council//Meeting Calendar//EN
CALSCALE:GREGORIAN
METHOD:PUBLISH
BEGIN:VEVENT
UID:72761-20250107@laverstockford-pc.gov.uk
DTSTAMP:20260421T102707Z
DTSTART;VALUE=DATE:20250107
DTEND;VALUE=DATE:20250108
SUMMARY:Finance &#038\\; General Purposes Committee 07 January 2025
DESCRIPTION:Finance &amp; General Purposes Committee Meeting\nView details: https://laverstockford-pc.gov.uk/meetings/finance-general-purposes-committee-07-january-2025/
URL:https://laverstockford-pc.gov.uk/meetings/finance-general-purposes-committee-07-january-2025/
END:VEVENT
END:VCALENDAR
