BEGIN:VCALENDAR
VERSION:2.0
PRODID:-//Laverstock and Ford Parish Council//Meeting Calendar//EN
CALSCALE:GREGORIAN
METHOD:PUBLISH
BEGIN:VEVENT
UID:72928-20250131@laverstockford-pc.gov.uk
DTSTAMP:20260421T144453Z
DTSTART;VALUE=DATE:20250131
DTEND;VALUE=DATE:20250201
SUMMARY:Personnel Meeting 31 January 2025
DESCRIPTION:Personnel Committee Meeting\nView details: https://laverstockford-pc.gov.uk/meetings/personnel-meeting-27-january-2025/
URL:https://laverstockford-pc.gov.uk/meetings/personnel-meeting-27-january-2025/
END:VEVENT
END:VCALENDAR
