BEGIN:VCALENDAR
VERSION:2.0
PRODID:-//Laverstock and Ford Parish Council//Meeting Calendar//EN
CALSCALE:GREGORIAN
METHOD:PUBLISH
BEGIN:VEVENT
UID:73106-20250304@laverstockford-pc.gov.uk
DTSTAMP:20260421T081025Z
DTSTART;VALUE=DATE:20250304
DTEND;VALUE=DATE:20250305
SUMMARY:Finance &#038\\; General Purposes Committee 04 March 2025
DESCRIPTION:Finance &amp; General Purposes Committee Meeting\nView details: https://laverstockford-pc.gov.uk/meetings/finance-general-purposes-committee-04-march-2025/
URL:https://laverstockford-pc.gov.uk/meetings/finance-general-purposes-committee-04-march-2025/
END:VEVENT
END:VCALENDAR
