BEGIN:VCALENDAR
VERSION:2.0
PRODID:-//Laverstock and Ford Parish Council//Meeting Calendar//EN
CALSCALE:GREGORIAN
METHOD:PUBLISH
BEGIN:VEVENT
UID:73115-20250616@laverstockford-pc.gov.uk
DTSTAMP:20260421T143213Z
DTSTART;VALUE=DATE:20250616
DTEND;VALUE=DATE:20250617
SUMMARY:Full Council Meeting 16 June 2025
DESCRIPTION:Full Council Meeting\nView details: https://laverstockford-pc.gov.uk/meetings/full-council-meeting-16-june-2025/
URL:https://laverstockford-pc.gov.uk/meetings/full-council-meeting-16-june-2025/
END:VEVENT
END:VCALENDAR
