BEGIN:VCALENDAR
VERSION:2.0
PRODID:-//Laverstock and Ford Parish Council//Meeting Calendar//EN
CALSCALE:GREGORIAN
METHOD:PUBLISH
BEGIN:VEVENT
UID:73154-20250514@laverstockford-pc.gov.uk
DTSTAMP:20260421T112750Z
DTSTART;VALUE=DATE:20250514
DTEND;VALUE=DATE:20250515
SUMMARY:Personnel Committee Meeting 14 May 2025
DESCRIPTION:Personnel Committee Meeting\nView details: https://laverstockford-pc.gov.uk/meetings/personnel-committee-meeting-14-may/
URL:https://laverstockford-pc.gov.uk/meetings/personnel-committee-meeting-14-may/
END:VEVENT
END:VCALENDAR
