BEGIN:VCALENDAR
VERSION:2.0
PRODID:-//Laverstock and Ford Parish Council//Meeting Calendar//EN
CALSCALE:GREGORIAN
METHOD:PUBLISH
BEGIN:VEVENT
UID:73248-20250331@laverstockford-pc.gov.uk
DTSTAMP:20260421T130937Z
DTSTART;VALUE=DATE:20250331
DTEND;VALUE=DATE:20250401
SUMMARY:Personnel Committee Meeting 31 March 2025
DESCRIPTION:Personnel Committee Meeting\nView details: https://laverstockford-pc.gov.uk/meetings/personnel-committee-meeting-26-march-2025/
URL:https://laverstockford-pc.gov.uk/meetings/personnel-committee-meeting-26-march-2025/
END:VEVENT
END:VCALENDAR
