BEGIN:VCALENDAR
VERSION:2.0
PRODID:-//Laverstock and Ford Parish Council//Meeting Calendar//EN
CALSCALE:GREGORIAN
METHOD:PUBLISH
BEGIN:VEVENT
UID:73339-20250606@laverstockford-pc.gov.uk
DTSTAMP:20260421T094102Z
DTSTART;VALUE=DATE:20250606
DTEND;VALUE=DATE:20250607
SUMMARY:Personnel Committee Meeting 06 June 2025
DESCRIPTION:Personnel Committee Meeting\nView details: https://laverstockford-pc.gov.uk/meetings/personnel-committee-meeting-06-june-2025/
URL:https://laverstockford-pc.gov.uk/meetings/personnel-committee-meeting-06-june-2025/
END:VEVENT
END:VCALENDAR
