BEGIN:VCALENDAR
VERSION:2.0
PRODID:-//Laverstock and Ford Parish Council//Meeting Calendar//EN
CALSCALE:GREGORIAN
METHOD:PUBLISH
BEGIN:VEVENT
UID:73688-20250721@laverstockford-pc.gov.uk
DTSTAMP:20260421T124908Z
DTSTART;VALUE=DATE:20250721
DTEND;VALUE=DATE:20250722
SUMMARY:Full Council Meeting 21 July 2025
DESCRIPTION:Full Council Meeting\nView details: https://laverstockford-pc.gov.uk/meetings/full-council-meeting-21-july-2025/
URL:https://laverstockford-pc.gov.uk/meetings/full-council-meeting-21-july-2025/
END:VEVENT
END:VCALENDAR
