BEGIN:VCALENDAR
VERSION:2.0
PRODID:-//Laverstock and Ford Parish Council//Meeting Calendar//EN
CALSCALE:GREGORIAN
METHOD:PUBLISH
BEGIN:VEVENT
UID:73691-20251202@laverstockford-pc.gov.uk
DTSTAMP:20260421T080937Z
DTSTART;VALUE=DATE:20251202
DTEND;VALUE=DATE:20251203
SUMMARY:Finance and General Purposes Committee 02 December 2025
DESCRIPTION:Finance &amp; General Purposes Committee Meeting\nView details: https://laverstockford-pc.gov.uk/meetings/full-council-02-december-2025/
URL:https://laverstockford-pc.gov.uk/meetings/full-council-02-december-2025/
END:VEVENT
END:VCALENDAR
