BEGIN:VCALENDAR
VERSION:2.0
PRODID:-//Laverstock and Ford Parish Council//Meeting Calendar//EN
CALSCALE:GREGORIAN
METHOD:PUBLISH
BEGIN:VEVENT
UID:73767-20251020@laverstockford-pc.gov.uk
DTSTAMP:20260421T094142Z
DTSTART;VALUE=DATE:20251020
DTEND;VALUE=DATE:20251021
SUMMARY:Full Council Meeting 20 October 2025
DESCRIPTION:Full Council Meeting\nView details: https://laverstockford-pc.gov.uk/meetings/full-council-meeting-20-october-2025/
URL:https://laverstockford-pc.gov.uk/meetings/full-council-meeting-20-october-2025/
END:VEVENT
END:VCALENDAR
