BEGIN:VCALENDAR
VERSION:2.0
PRODID:-//Laverstock and Ford Parish Council//Meeting Calendar//EN
CALSCALE:GREGORIAN
METHOD:PUBLISH
BEGIN:VEVENT
UID:74254-20260225@laverstockford-pc.gov.uk
DTSTAMP:20260422T090722Z
DTSTART;VALUE=DATE:20260225
DTEND;VALUE=DATE:20260226
SUMMARY:Communications and Community Engagement Working Group February 24th 2026
DESCRIPTION:Communications &amp; Community Engagement Working Group Meeting\nView details: https://laverstockford-pc.gov.uk/meetings/communications-and-community-engagement-working-group-february-25th-2026/
URL:https://laverstockford-pc.gov.uk/meetings/communications-and-community-engagement-working-group-february-25th-2026/
END:VEVENT
END:VCALENDAR
