BEGIN:VCALENDAR
VERSION:2.0
PRODID:-//Laverstock and Ford Parish Council//Meeting Calendar//EN
CALSCALE:GREGORIAN
METHOD:PUBLISH
BEGIN:VEVENT
UID:74349-20260303@laverstockford-pc.gov.uk
DTSTAMP:20260419T145526Z
DTSTART;VALUE=DATE:20260303
DTEND;VALUE=DATE:20260304
SUMMARY:Finance and General Purposes Meeting March 3rd 2026
DESCRIPTION:Finance &amp; General Purposes Committee Meeting\nView details: https://laverstockford-pc.gov.uk/meetings/finance-and-general-purposes-meeting-march-2026/
URL:https://laverstockford-pc.gov.uk/meetings/finance-and-general-purposes-meeting-march-2026/
END:VEVENT
END:VCALENDAR
