BEGIN:VCALENDAR
VERSION:2.0
PRODID:-//Laverstock and Ford Parish Council//Meeting Calendar//EN
CALSCALE:GREGORIAN
METHOD:PUBLISH
BEGIN:VEVENT
UID:74426-20260518@laverstockford-pc.gov.uk
DTSTAMP:20260420T155403Z
DTSTART;VALUE=DATE:20260518
DTEND;VALUE=DATE:20260519
SUMMARY:Full Council Meeting May 2026
DESCRIPTION:Full Council Meeting\nView details: https://laverstockford-pc.gov.uk/meetings/full-council-meeting-may-2026/
URL:https://laverstockford-pc.gov.uk/meetings/full-council-meeting-may-2026/
END:VEVENT
END:VCALENDAR
